BEGIN:VCALENDAR
VERSION:2.0
PRODID:-//Bastringue Corp - Actualités Musicales - ECPv6.15.20//NONSGML v1.0//EN
CALSCALE:GREGORIAN
METHOD:PUBLISH
X-WR-CALNAME:Bastringue Corp - Actualités Musicales
X-ORIGINAL-URL:https://bc.sylvainfoucaud.fr
X-WR-CALDESC:Évènements pour Bastringue Corp - Actualités Musicales
REFRESH-INTERVAL;VALUE=DURATION:PT1H
X-Robots-Tag:noindex
X-PUBLISHED-TTL:PT1H
BEGIN:VTIMEZONE
TZID:Europe/Paris
BEGIN:DAYLIGHT
TZOFFSETFROM:+0100
TZOFFSETTO:+0200
TZNAME:CEST
DTSTART:20250330T010000
END:DAYLIGHT
BEGIN:STANDARD
TZOFFSETFROM:+0200
TZOFFSETTO:+0100
TZNAME:CET
DTSTART:20251026T010000
END:STANDARD
BEGIN:DAYLIGHT
TZOFFSETFROM:+0100
TZOFFSETTO:+0200
TZNAME:CEST
DTSTART:20260329T010000
END:DAYLIGHT
BEGIN:STANDARD
TZOFFSETFROM:+0200
TZOFFSETTO:+0100
TZNAME:CET
DTSTART:20261025T010000
END:STANDARD
BEGIN:DAYLIGHT
TZOFFSETFROM:+0100
TZOFFSETTO:+0200
TZNAME:CEST
DTSTART:20270328T010000
END:DAYLIGHT
BEGIN:STANDARD
TZOFFSETFROM:+0200
TZOFFSETTO:+0100
TZNAME:CET
DTSTART:20271031T010000
END:STANDARD
END:VTIMEZONE
BEGIN:VEVENT
DTSTART;TZID=Europe/Paris:20260731T000000
DTEND;TZID=Europe/Paris:20260802T235959
DTSTAMP:20260421T063512
CREATED:20250916T200729Z
LAST-MODIFIED:20260105T192739Z
UID:25655-1785456000-1785715199@bc.sylvainfoucaud.fr
SUMMARY:SYLAK Open Air 2026
DESCRIPTION:La date a été annoncée le 16 septembre 2025.  \n\n\n\nPour toutes les informations détaillées\, un article a été dédié à ce beau festival : \n\n\n\n\nFestival SYLAK 2026 : toutes les informations !
URL:https://bc.sylvainfoucaud.fr/evenement/sylak-open-air-2026
LOCATION:Rhône
ATTACH;FMTTYPE=image/webp:https://bc.sylvainfoucaud.fr/wp-content/uploads/2025/09/SYLAK_2026_dates.webp
END:VEVENT
BEGIN:VEVENT
DTSTART;TZID=Europe/Paris:20260802T190000
DTEND;TZID=Europe/Paris:20260808T233000
DTSTAMP:20260421T063512
CREATED:20260201T190351Z
LAST-MODIFIED:20260201T190355Z
UID:27291-1785697200-1786231800@bc.sylvainfoucaud.fr
SUMMARY:Crest Jazz Festival 2026
DESCRIPTION:Le Crest Jazz Festival se prépare à fêter sa cinquantième édition. Préparez-vous !
URL:https://bc.sylvainfoucaud.fr/evenement/crest-jazz-festival-2026
LOCATION:Rhône
CATEGORIES:Festival
ATTACH;FMTTYPE=image/jpeg:https://bc.sylvainfoucaud.fr/wp-content/uploads/2026/02/Crest-Jazz-Festival-2026.jpg
END:VEVENT
BEGIN:VEVENT
DTSTART;TZID=Europe/Paris:20260804T170000
DTEND;TZID=Europe/Paris:20260807T190000
DTSTAMP:20260421T063512
CREATED:20260201T192350Z
LAST-MODIFIED:20260201T192355Z
UID:27302-1785862800-1786129200@bc.sylvainfoucaud.fr
SUMMARY:Concours Crest Jazz 2026
DESCRIPTION:Le traditionnel concours du Crest Jazz Festival se tiendra sur le parvis de l’église Saint-Sauveur de Crest à raison de deux formations par jour. \n\n\n\nLe lauréat jouera le samedi en ouverture de la soirée de clôture du festival !
URL:https://bc.sylvainfoucaud.fr/evenement/concours-crest-jazz-2026
LOCATION:Rhône
CATEGORIES:Festival
END:VEVENT
BEGIN:VEVENT
DTSTART;TZID=Europe/Paris:20260814T180000
DTEND;TZID=Europe/Paris:20260815T233000
DTSTAMP:20260421T063512
CREATED:20260206T150130Z
LAST-MODIFIED:20260206T150138Z
UID:27485-1786730400-1786836600@bc.sylvainfoucaud.fr
SUMMARY:Festival Perséides 2026
DESCRIPTION:La deuxième édition du Festival Perséides se tiendra les vendredi 14 et samedi 15 août 2026 au Domaine des Clévos d’Étoile-sur-Rhône. \n\n\n\nPlus d’informations ici : Festival Perséides 2026 : les informations.
URL:https://bc.sylvainfoucaud.fr/evenement/festival-perseides-2026
LOCATION:Domaine des Clévos\, 390 Route de Marmans\, Étoile-sur-Rhône\, 26800\, France
CATEGORIES:Festival
ATTACH;FMTTYPE=image/jpeg:https://bc.sylvainfoucaud.fr/wp-content/uploads/2026/02/Festival-Perseides-2026.jpg
END:VEVENT
BEGIN:VEVENT
DTSTART;TZID=Europe/Paris:20260821T000000
DTEND;TZID=Europe/Paris:20260823T235959
DTSTAMP:20260421T063512
CREATED:20250913T140328Z
LAST-MODIFIED:20260107T202548Z
UID:25590-1787270400-1787529599@bc.sylvainfoucaud.fr
SUMMARY:Lezart Festival 2026
DESCRIPTION:Pour le moment nous n’avons « que » les dates et une artiste ! \n\n\n\nToutes les informations sont dans l’article dédié : \n\n\n\n\nLezart Festival 2026 (#7) : informations et programmation
URL:https://bc.sylvainfoucaud.fr/evenement/lezart-festival-2026
LOCATION:Rhône
ATTACH;FMTTYPE=image/webp:https://bc.sylvainfoucaud.fr/wp-content/uploads/2025/09/Lezart_Festival-2026-1200x630-1.webp
END:VEVENT
END:VCALENDAR