BEGIN:VCALENDAR
VERSION:2.0
PRODID:-//Bastringue Corp - Actualités Musicales - ECPv6.15.20//NONSGML v1.0//EN
CALSCALE:GREGORIAN
METHOD:PUBLISH
X-ORIGINAL-URL:https://bc.sylvainfoucaud.fr
X-WR-CALDESC:Évènements pour Bastringue Corp - Actualités Musicales
REFRESH-INTERVAL;VALUE=DURATION:PT1H
X-Robots-Tag:noindex
X-PUBLISHED-TTL:PT1H
BEGIN:VTIMEZONE
TZID:Europe/Paris
BEGIN:DAYLIGHT
TZOFFSETFROM:+0100
TZOFFSETTO:+0200
TZNAME:CEST
DTSTART:20250330T010000
END:DAYLIGHT
BEGIN:STANDARD
TZOFFSETFROM:+0200
TZOFFSETTO:+0100
TZNAME:CET
DTSTART:20251026T010000
END:STANDARD
BEGIN:DAYLIGHT
TZOFFSETFROM:+0100
TZOFFSETTO:+0200
TZNAME:CEST
DTSTART:20260329T010000
END:DAYLIGHT
BEGIN:STANDARD
TZOFFSETFROM:+0200
TZOFFSETTO:+0100
TZNAME:CET
DTSTART:20261025T010000
END:STANDARD
BEGIN:DAYLIGHT
TZOFFSETFROM:+0100
TZOFFSETTO:+0200
TZNAME:CEST
DTSTART:20270328T010000
END:DAYLIGHT
BEGIN:STANDARD
TZOFFSETFROM:+0200
TZOFFSETTO:+0100
TZNAME:CET
DTSTART:20271031T010000
END:STANDARD
END:VTIMEZONE
BEGIN:VEVENT
DTSTART;TZID=Europe/Paris:20260604T170000
DTEND;TZID=Europe/Paris:20260606T233000
DTSTAMP:20260421T050148
CREATED:20241116T182756Z
LAST-MODIFIED:20260220T114934Z
UID:20753-1780592400-1780788600@bc.sylvainfoucaud.fr
SUMMARY:[ANNULÉ !!] Crussol Festival 2026
DESCRIPTION:/!\ Le Crussol Festival n’est pas reconduit en 2026 et ne connaîtra très probablement plus aucune édition. La tristesse induite par cette déclaration est palpable. Nous souhaitons force et courage à ses soutiens et organisateurs. \n\n\n\nLa nouvelle a été confirmée pour la deuxième fois par la chanteuse Zaz à l’origine du projet le 19 février. \n\n\n\n\n\n\n\nEn attendant de savoir quels seront la programmation et le nouveau site sur lequel se déroulera l’édition 2026 du Crussol Festival\, voici déjà les dates !
URL:https://bc.sylvainfoucaud.fr/evenement/crussol-festival-2026
LOCATION:Rhône
CATEGORIES:Festival
ATTACH;FMTTYPE=image/jpeg:https://bc.sylvainfoucaud.fr/wp-content/uploads/2024/11/Crussol-Festival.jpg
END:VEVENT
BEGIN:VEVENT
DTSTART;TZID=Europe/Paris:20260605T170000
DTEND;TZID=Europe/Paris:20260606T233000
DTSTAMP:20260421T050148
CREATED:20251124T065113Z
LAST-MODIFIED:20251124T065117Z
UID:26428-1780678800-1780788600@bc.sylvainfoucaud.fr
SUMMARY:Lou Vento Festival 2026
DESCRIPTION:En attendant la programmation\, le Lou Vento Festival nous donne rendez-vous le premier week-end de juin 2026 !
URL:https://bc.sylvainfoucaud.fr/evenement/lou-vento-festival-2026
LOCATION:Rhône
CATEGORIES:Festival
ATTACH;FMTTYPE=image/jpeg:https://bc.sylvainfoucaud.fr/wp-content/uploads/2025/11/Festival-Lou-Vento-2026.jpg
END:VEVENT
BEGIN:VEVENT
DTSTART;TZID=Europe/Paris:20260605T180000
DTEND;TZID=Europe/Paris:20260606T233000
DTSTAMP:20260421T050148
CREATED:20260219T165706Z
LAST-MODIFIED:20260219T165717Z
UID:27578-1780682400-1780788600@bc.sylvainfoucaud.fr
SUMMARY:Festival Reggae to Zion 2026
DESCRIPTION:Le grand retour du festival Reggae to Zion qu’organise l’association Banfora\, c’est début juin ! \n\n\n\nRetenez-les bien\, en attendant la programmation.
URL:https://bc.sylvainfoucaud.fr/evenement/festival-reggae-to-zion-2026
LOCATION:Crest\, Crest\, 26400\, France
CATEGORIES:Festival
ATTACH;FMTTYPE=image/jpeg:https://bc.sylvainfoucaud.fr/wp-content/uploads/2026/02/Reggae-to-Zion-2026.jpg
END:VEVENT
BEGIN:VEVENT
DTSTART;TZID=Europe/Paris:20260611T180000
DTEND;TZID=Europe/Paris:20260611T233000
DTSTAMP:20260421T050148
CREATED:20260129T213917Z
LAST-MODIFIED:20260203T195311Z
UID:27267-1781200800-1781220600@bc.sylvainfoucaud.fr
SUMMARY:Brutal Afterwork 3
DESCRIPTION:Plus d’informations à venir !
URL:https://bc.sylvainfoucaud.fr/evenement/brutal-afterwork-3
LOCATION:Rhône
ATTACH;FMTTYPE=image/webp:https://bc.sylvainfoucaud.fr/wp-content/uploads/2026/01/Brutal_afterwork_3-annonce.webp
END:VEVENT
BEGIN:VEVENT
DTSTART;TZID=Europe/Paris:20260625T160000
DTEND;TZID=Europe/Paris:20260627T233000
DTSTAMP:20260421T050148
CREATED:20251114T092545Z
LAST-MODIFIED:20251124T065315Z
UID:26330-1782403200-1782603000@bc.sylvainfoucaud.fr
SUMMARY:Aluna Festival 2026
DESCRIPTION:L’Aluna Festival revient du jeudi 25 au samedi 27 juin pour son édition 2026 ! \n\n\n\nCe que l’on sait sur la programmation : Aluna Festival 2026 : Faisons le point !
URL:https://bc.sylvainfoucaud.fr/evenement/aluna-festival-2026
LOCATION:Rhône
CATEGORIES:Festival
ATTACH;FMTTYPE=image/jpeg:https://bc.sylvainfoucaud.fr/wp-content/uploads/2025/11/Aluna-Festival-2026.jpg
END:VEVENT
END:VCALENDAR