BEGIN:VCALENDAR
VERSION:2.0
PRODID:-//Bastringue Corp - Actualités Musicales - ECPv6.15.20//NONSGML v1.0//EN
CALSCALE:GREGORIAN
METHOD:PUBLISH
X-ORIGINAL-URL:https://bc.sylvainfoucaud.fr
X-WR-CALDESC:Évènements pour Bastringue Corp - Actualités Musicales
REFRESH-INTERVAL;VALUE=DURATION:PT1H
X-Robots-Tag:noindex
X-PUBLISHED-TTL:PT1H
BEGIN:VTIMEZONE
TZID:Europe/Paris
BEGIN:DAYLIGHT
TZOFFSETFROM:+0100
TZOFFSETTO:+0200
TZNAME:CEST
DTSTART:20240331T010000
END:DAYLIGHT
BEGIN:STANDARD
TZOFFSETFROM:+0200
TZOFFSETTO:+0100
TZNAME:CET
DTSTART:20241027T010000
END:STANDARD
BEGIN:DAYLIGHT
TZOFFSETFROM:+0100
TZOFFSETTO:+0200
TZNAME:CEST
DTSTART:20250330T010000
END:DAYLIGHT
BEGIN:STANDARD
TZOFFSETFROM:+0200
TZOFFSETTO:+0100
TZNAME:CET
DTSTART:20251026T010000
END:STANDARD
BEGIN:DAYLIGHT
TZOFFSETFROM:+0100
TZOFFSETTO:+0200
TZNAME:CEST
DTSTART:20260329T010000
END:DAYLIGHT
BEGIN:STANDARD
TZOFFSETFROM:+0200
TZOFFSETTO:+0100
TZNAME:CET
DTSTART:20261025T010000
END:STANDARD
END:VTIMEZONE
BEGIN:VEVENT
DTSTART;TZID=Europe/Paris:20251016T180000
DTEND;TZID=Europe/Paris:20251016T223000
DTSTAMP:20260420T211431
CREATED:20250814T220100Z
LAST-MODIFIED:20260105T234956Z
UID:25658-1760637600-1760653800@bc.sylvainfoucaud.fr
SUMMARY:Igorrr + Master Boot Record + Imperial Triumphant
DESCRIPTION:Concert organisé  par Sounds Like Hell Productions en partenariat avec The Link Productions et Doomstar Bookings. \n\n\n\nRetrouvez notre reportage sur ce concert : https://bc.sylvainfoucaud.fr/reportage-concert-16-octobre-2025-transbordeur-slh ! \n\n\n\nInformations détaillées : https://slhproductions.fr/agenda/igorrr/ \n\n\n\nBilletterie : https://yp.events/d20f2452-e7bc-4357-8ac9-05fecaf590f1/IGORRR-MASTER-BOOTS-RECORDS-IMPERIAL-TRIUMPHANT \n\n\n\nÉvènement Facebook : https://www.facebook.com/events/806717394952781/
URL:https://bc.sylvainfoucaud.fr/evenement/igorrr-master-boot-record-imperial-triumphant
LOCATION:Transbordeur\, 3 Boulevard Stalingrad\, Villeurbanne\, 69100\, France
ATTACH;FMTTYPE=image/webp:https://bc.sylvainfoucaud.fr/wp-content/uploads/2025/09/487215361_1100278265473516_7898875016782342079_n.webp
END:VEVENT
BEGIN:VEVENT
DTSTART;TZID=Europe/Paris:20251024T183000
DTEND;TZID=Europe/Paris:20251025T233000
DTSTAMP:20260420T211431
CREATED:20250915T175754Z
LAST-MODIFIED:20260105T234832Z
UID:25632-1761330600-1761435000@bc.sylvainfoucaud.fr
SUMMARY:Ze Fiestival 2025 (#14)
DESCRIPTION:Rendez-vous est pris les vendredi 24 et samedi 25 octobre à l’espace des Buis de Marsanne pour la quatorzième édition de Ze Fiestival\, organisée par ZAMM ! \n\n\n\nPlus de renseignements ici : Ze Fiestival 2025 : la programmation est avancée !
URL:https://bc.sylvainfoucaud.fr/evenement/ze-fiestival-2025-14
LOCATION:Espace des Buis\, Route de Cléon d'Andran\, Marsanne\, 26740\, France
CATEGORIES:Festival
ATTACH;FMTTYPE=image/jpeg:https://bc.sylvainfoucaud.fr/wp-content/uploads/2025/09/ZAMM.jpg
END:VEVENT
BEGIN:VEVENT
DTSTART;TZID=Europe/Paris:20251031T000000
DTEND;TZID=Europe/Paris:20251101T235959
DTSTAMP:20260420T211431
CREATED:20250417T232003Z
LAST-MODIFIED:20250917T141050Z
UID:23197-1761868800-1762041599@bc.sylvainfoucaud.fr
SUMMARY:Westill Fest 2025 – IXe édition
DESCRIPTION:Toutes les informations sur la IXe édition du Westill Fest : \n\n\n\n\nWestill Fest 2025 – IXe édition : toutes les informations
URL:https://bc.sylvainfoucaud.fr/evenement/westill-fest-2025-ixe-edition
LOCATION:Rhône
ATTACH;FMTTYPE=image/webp:https://bc.sylvainfoucaud.fr/wp-content/uploads/2025/04/Westill_Fest_2025-1200x630-1.webp
END:VEVENT
END:VCALENDAR