BEGIN:VCALENDAR
VERSION:2.0
PRODID:-//Bastringue Corp - Actualités Musicales - ECPv6.15.20//NONSGML v1.0//EN
CALSCALE:GREGORIAN
METHOD:PUBLISH
X-WR-CALNAME:Bastringue Corp - Actualités Musicales
X-ORIGINAL-URL:https://bc.sylvainfoucaud.fr
X-WR-CALDESC:Évènements pour Bastringue Corp - Actualités Musicales
REFRESH-INTERVAL;VALUE=DURATION:PT1H
X-Robots-Tag:noindex
X-PUBLISHED-TTL:PT1H
BEGIN:VTIMEZONE
TZID:Europe/Paris
BEGIN:DAYLIGHT
TZOFFSETFROM:+0100
TZOFFSETTO:+0200
TZNAME:CEST
DTSTART:20240331T010000
END:DAYLIGHT
BEGIN:STANDARD
TZOFFSETFROM:+0200
TZOFFSETTO:+0100
TZNAME:CET
DTSTART:20241027T010000
END:STANDARD
BEGIN:DAYLIGHT
TZOFFSETFROM:+0100
TZOFFSETTO:+0200
TZNAME:CEST
DTSTART:20250330T010000
END:DAYLIGHT
BEGIN:STANDARD
TZOFFSETFROM:+0200
TZOFFSETTO:+0100
TZNAME:CET
DTSTART:20251026T010000
END:STANDARD
BEGIN:DAYLIGHT
TZOFFSETFROM:+0100
TZOFFSETTO:+0200
TZNAME:CEST
DTSTART:20260329T010000
END:DAYLIGHT
BEGIN:STANDARD
TZOFFSETFROM:+0200
TZOFFSETTO:+0100
TZNAME:CET
DTSTART:20261025T010000
END:STANDARD
END:VTIMEZONE
BEGIN:VEVENT
DTSTART;TZID=Europe/Paris:20250905T160000
DTEND;TZID=Europe/Paris:20250906T233000
DTSTAMP:20260420T225433
CREATED:20250508T220941Z
LAST-MODIFIED:20250615T214809Z
UID:23427-1757088000-1757201400@bc.sylvainfoucaud.fr
SUMMARY:Le GROS Festival 2025
DESCRIPTION:Le GROS Festival revient les vendredi 5 et samedi 6 septembre 2025 ! \n\n\n\n\nLe GROS Festival 2025 : nos infos !
URL:https://bc.sylvainfoucaud.fr/evenement/le-gros-festival-2025
LOCATION:Étang de Bellevue\, Étang de Bellevue\, Peyrins\, 26380\, France
CATEGORIES:Festival
ATTACH;FMTTYPE=image/jpeg:https://bc.sylvainfoucaud.fr/wp-content/uploads/2025/05/Le-GROS-Festival-2025.jpg
END:VEVENT
BEGIN:VEVENT
DTSTART;TZID=Europe/Paris:20250912T000000
DTEND;TZID=Europe/Paris:20250913T235959
DTSTAMP:20260420T225433
CREATED:20250726T134151Z
LAST-MODIFIED:20250726T134210Z
UID:24921-1757635200-1757807999@bc.sylvainfoucaud.fr
SUMMARY:Bridge To Hell 2025
DESCRIPTION:Bridge To Hell 2025 (#5) : Toutes les informations
URL:https://bc.sylvainfoucaud.fr/evenement/bridge-to-hell-2025
LOCATION:Rhône
ATTACH;FMTTYPE=image/webp:https://bc.sylvainfoucaud.fr/wp-content/uploads/2025/04/Briget_To_Hell-2025-1200x630-1.webp
END:VEVENT
BEGIN:VEVENT
DTSTART;TZID=Europe/Paris:20250927T000000
DTEND;TZID=Europe/Paris:20250927T235959
DTSTAMP:20260420T225433
CREATED:20250922T103024Z
LAST-MODIFIED:20250922T103028Z
UID:25751-1758931200-1759017599@bc.sylvainfoucaud.fr
SUMMARY:Metaloïd Metalfest #6
DESCRIPTION:Toutes les informations dans notre article détaillé : \n\n\n\n\nMetaloïd MetalFest #6 (2025) : Toutes les informations
URL:https://bc.sylvainfoucaud.fr/evenement/metaloid-metalfest-6
LOCATION:Rhône
ATTACH;FMTTYPE=image/webp:https://bc.sylvainfoucaud.fr/wp-content/uploads/2025/04/Metaloid-MetalFest-2025-1200x630-1.webp
END:VEVENT
BEGIN:VEVENT
DTSTART;TZID=Europe/Paris:20250927T200000
DTEND;TZID=Europe/Paris:20250927T233000
DTSTAMP:20260420T225433
CREATED:20250630T223448Z
LAST-MODIFIED:20250630T223451Z
UID:24185-1759003200-1759015800@bc.sylvainfoucaud.fr
SUMMARY:Let Me Jump Fest : A decade of Toxic Frogs
DESCRIPTION:Les Toxic Frogs fêtent leur 10 ans ! \n\n\n\nToutes les informations : \n\n\n\n\nLet Me Jump Fest : A decade of Toxic Frogs – Toutes les informations
URL:https://bc.sylvainfoucaud.fr/evenement/let-me-jump-fest-a-decade-of-toxic-frogs
LOCATION:Rhône
ATTACH;FMTTYPE=image/webp:https://bc.sylvainfoucaud.fr/wp-content/uploads/2025/06/Let_Me_Jump_Fest_2025-1200x630-1.webp
END:VEVENT
END:VCALENDAR