BEGIN:VCALENDAR
VERSION:2.0
PRODID:-//Bastringue Corp - Actualités Musicales - ECPv6.15.20//NONSGML v1.0//EN
CALSCALE:GREGORIAN
METHOD:PUBLISH
X-ORIGINAL-URL:https://bc.sylvainfoucaud.fr
X-WR-CALDESC:Évènements pour Bastringue Corp - Actualités Musicales
REFRESH-INTERVAL;VALUE=DURATION:PT1H
X-Robots-Tag:noindex
X-PUBLISHED-TTL:PT1H
BEGIN:VTIMEZONE
TZID:Europe/Paris
BEGIN:DAYLIGHT
TZOFFSETFROM:+0100
TZOFFSETTO:+0200
TZNAME:CEST
DTSTART:20240331T010000
END:DAYLIGHT
BEGIN:STANDARD
TZOFFSETFROM:+0200
TZOFFSETTO:+0100
TZNAME:CET
DTSTART:20241027T010000
END:STANDARD
BEGIN:DAYLIGHT
TZOFFSETFROM:+0100
TZOFFSETTO:+0200
TZNAME:CEST
DTSTART:20250330T010000
END:DAYLIGHT
BEGIN:STANDARD
TZOFFSETFROM:+0200
TZOFFSETTO:+0100
TZNAME:CET
DTSTART:20251026T010000
END:STANDARD
BEGIN:DAYLIGHT
TZOFFSETFROM:+0100
TZOFFSETTO:+0200
TZNAME:CEST
DTSTART:20260329T010000
END:DAYLIGHT
BEGIN:STANDARD
TZOFFSETFROM:+0200
TZOFFSETTO:+0100
TZNAME:CET
DTSTART:20261025T010000
END:STANDARD
END:VTIMEZONE
BEGIN:VEVENT
DTSTART;TZID=Europe/Paris:20250704T000000
DTEND;TZID=Europe/Paris:20250705T235959
DTSTAMP:20260421T055544
CREATED:20241128T175903Z
LAST-MODIFIED:20250623T213048Z
UID:21025-1751587200-1751759999@bc.sylvainfoucaud.fr
SUMMARY:Plane'R Fest 2025
DESCRIPTION:Le Plane’R Fest va de nouveau envahir Montcul en 2025 ! \n\n\n\n\nPlane’R Fest 2025 : Toutes les informations
URL:https://bc.sylvainfoucaud.fr/evenement/planer-fest-2025
LOCATION:Rhône
ATTACH;FMTTYPE=image/webp:https://bc.sylvainfoucaud.fr/wp-content/uploads/2024/11/PRF25-960x540v0.webp
END:VEVENT
BEGIN:VEVENT
DTSTART;TZID=Europe/Paris:20250709T143000
DTEND;TZID=Europe/Paris:20250712T233000
DTSTAMP:20260421T055544
CREATED:20240718T172530Z
LAST-MODIFIED:20250615T214917Z
UID:18247-1752071400-1752363000@bc.sylvainfoucaud.fr
SUMMARY:Festival Musilac 2025
DESCRIPTION:Le Festival Musilac approche à grands pas. \n\n\n\nPlus d’informations ici :  \n\n\n\n\nFestival Musilac 2025 : le point sur la programmation
URL:https://bc.sylvainfoucaud.fr/evenement/festival-musilac-2025
LOCATION:Festival Musilac\, Esplanade du Lac\, Boulevard Barrier\, AIx-les-Bains\, 73100\, France
ATTACH;FMTTYPE=image/png:https://bc.sylvainfoucaud.fr/wp-content/uploads/2024/07/Festival-Musilac-2025.png
END:VEVENT
BEGIN:VEVENT
DTSTART;TZID=Europe/Paris:20250711T000000
DTEND;TZID=Europe/Paris:20250712T235959
DTSTAMP:20260421T055544
CREATED:20241227T230312Z
LAST-MODIFIED:20241227T230314Z
UID:21653-1752192000-1752364799@bc.sylvainfoucaud.fr
SUMMARY:La Guerre du Son 2025
DESCRIPTION:La Guerre du Son 2025 : toutes les informations
URL:https://bc.sylvainfoucaud.fr/evenement/la-guerre-du-son-2025
LOCATION:Rhône
ATTACH;FMTTYPE=image/webp:https://bc.sylvainfoucaud.fr/wp-content/uploads/2024/12/La_Guerre_du_Son-2025-1200x630-1.webp
END:VEVENT
BEGIN:VEVENT
DTSTART;TZID=Europe/Paris:20250711T170000
DTEND;TZID=Europe/Paris:20250713T233000
DTSTAMP:20260421T055544
CREATED:20241228T121413Z
LAST-MODIFIED:20241228T121416Z
UID:21663-1752253200-1752449400@bc.sylvainfoucaud.fr
SUMMARY:Le Théâtre de Verdure En Mode Festi ! 2025
DESCRIPTION:À Bellerive-sur-Allier\, près de Vichy\, le Théâtre de Verdure de la MJC va passer En Mode Festi pendant trois jours ! \n\n\n\nPlus d’informations ici : Vichy – Bellerive passe En Mode Festi ! cet été 2025
URL:https://bc.sylvainfoucaud.fr/evenement/le-theatre-de-verdure-en-mode-festi-2025
LOCATION:Théâtre de Verdure\, Théâtre de Verdure de la Maison des Jeunes et de la Culture\, Bellerive-sur-Allier\, 03700\, France
CATEGORIES:Festival
ATTACH;FMTTYPE=image/jpeg:https://bc.sylvainfoucaud.fr/wp-content/uploads/2024/12/En-Mode-Festi.jpg
END:VEVENT
BEGIN:VEVENT
DTSTART;TZID=Europe/Paris:20250719T180000
DTEND;TZID=Europe/Paris:20250719T233000
DTSTAMP:20260421T055544
CREATED:20250326T214547Z
LAST-MODIFIED:20250326T214552Z
UID:22964-1752948000-1752967800@bc.sylvainfoucaud.fr
SUMMARY:
DESCRIPTION:La Chabriole 2025\, c’est parti ! Quatre concerts déments et une ambiance de folie. \n\n\n\nPlus d’informations ici : Festival de la Chabriole 2025 : la programmation !
URL:https://bc.sylvainfoucaud.fr/evenement/22964
LOCATION:Saint-Michel-de-Chabrillanoux\, Saint-Michel-de-Chabrillanoux\, 07360\, France
ATTACH;FMTTYPE=image/jpeg:https://bc.sylvainfoucaud.fr/wp-content/uploads/2024/12/20241217-Festival-de-la-Chabriole.jpg
END:VEVENT
BEGIN:VEVENT
DTSTART;TZID=Europe/Paris:20250722T160000
DTEND;TZID=Europe/Paris:20250727T233000
DTSTAMP:20260421T055544
CREATED:20241203T103852Z
LAST-MODIFIED:20241203T104120Z
UID:21118-1753200000-1753659000@bc.sylvainfoucaud.fr
SUMMARY:Paléo Festival 2025
DESCRIPTION:Le Paléo Festival se prépare pour nous accueillir au mieux ! \n\n\n\nPlus d’informations prochainement.
URL:https://bc.sylvainfoucaud.fr/evenement/paleo-festival-2025
LOCATION:Nyon\, Nyon\, Switzerland
CATEGORIES:Festival
ATTACH;FMTTYPE=image/jpeg:https://bc.sylvainfoucaud.fr/wp-content/uploads/2024/12/Paleo-Festival-2025.jpg
END:VEVENT
BEGIN:VEVENT
DTSTART;TZID=Europe/Paris:20250722T170000
DTEND;TZID=Europe/Paris:20250723T233000
DTSTAMP:20260421T055544
CREATED:20241105T150120Z
LAST-MODIFIED:20241105T150123Z
UID:20547-1753203600-1753313400@bc.sylvainfoucaud.fr
SUMMARY:Festival de Mémé Monette #4
DESCRIPTION:Les dates du Festival de Mémé Monette sont connues et ce sera sur deux jours ! \n\n\n\nPlus d’infos sur la programmation prochainement.
URL:https://bc.sylvainfoucaud.fr/evenement/festival-de-meme-monette-4
LOCATION:Stade de Montoison\, Route du Stade\, Montoison\, 26800\, France
CATEGORIES:Festival
ATTACH;FMTTYPE=image/jpeg:https://bc.sylvainfoucaud.fr/wp-content/uploads/2024/11/Festival-de-Meme-Monette.jpg
END:VEVENT
BEGIN:VEVENT
DTSTART;TZID=Europe/Paris:20250723T190000
DTEND;TZID=Europe/Paris:20250726T233000
DTSTAMP:20260421T055544
CREATED:20241105T164026Z
LAST-MODIFIED:20260105T234810Z
UID:20558-1753297200-1753572600@bc.sylvainfoucaud.fr
SUMMARY:Festival Sur le Champ 2025
DESCRIPTION:Les dates du Festival Sur le Champ 2025 sont connues. Et la programmation l’est également ! \n\n\n\nLire ici : Festival Sur le Champ 2025 : la programmation !
URL:https://bc.sylvainfoucaud.fr/evenement/festival-sur-le-champ-2025
LOCATION:Champ de Mars de Valence\, Champ de Mars\, Valence\, 26000\, France
CATEGORIES:Festival
ATTACH;FMTTYPE=image/jpeg:https://bc.sylvainfoucaud.fr/wp-content/uploads/2024/11/Festival-Sur-le-Champ-2025.jpg
END:VEVENT
BEGIN:VEVENT
DTSTART;TZID=Europe/Paris:20250726T160000
DTEND;TZID=Europe/Paris:20250727T233000
DTSTAMP:20260421T055544
CREATED:20241205T222500Z
LAST-MODIFIED:20241219T212529Z
UID:21253-1753545600-1753659000@bc.sylvainfoucaud.fr
SUMMARY:Fest'in Robins 2025
DESCRIPTION:Les festival Rock’in Robins devient Fest’in Robins et se tiendra sur deux jours ! \n\n\n\n\nFest’in Robins 2025 : programmation de la troisième édition
URL:https://bc.sylvainfoucaud.fr/evenement/festin-robins-2025
LOCATION:Les Petits Robins\, Les Petits Robins\, Livron\, 26250\, France
CATEGORIES:Festival
ATTACH;FMTTYPE=image/jpeg:https://bc.sylvainfoucaud.fr/wp-content/uploads/2024/12/Fest-in-Robins-2025.jpg
END:VEVENT
BEGIN:VEVENT
DTSTART;TZID=Europe/Paris:20250727T190000
DTEND;TZID=Europe/Paris:20250802T233000
DTSTAMP:20260421T055544
CREATED:20241219T125423Z
LAST-MODIFIED:20250218T101616Z
UID:21518-1753642800-1754177400@bc.sylvainfoucaud.fr
SUMMARY:Crest Jazz Festival 2025
DESCRIPTION:En attendant la programmation complète\, voici les dates et les premiers noms ! \n\n\n\nIci : Crest Jazz Festival 2025 : on fait le point
URL:https://bc.sylvainfoucaud.fr/evenement/crest-jazz-festival-2025
LOCATION:Espace Soubeyran\, 75 avenue Jean Rabot\, Crest\, 26400\, France
CATEGORIES:Festival
ATTACH;FMTTYPE=image/jpeg:https://bc.sylvainfoucaud.fr/wp-content/uploads/2024/12/Crest-Jazz.jpg
END:VEVENT
END:VCALENDAR