BEGIN:VCALENDAR
VERSION:2.0
PRODID:-//Bastringue Corp - Actualités Musicales - ECPv6.15.20//NONSGML v1.0//EN
CALSCALE:GREGORIAN
METHOD:PUBLISH
X-ORIGINAL-URL:https://bc.sylvainfoucaud.fr
X-WR-CALDESC:Évènements pour Bastringue Corp - Actualités Musicales
REFRESH-INTERVAL;VALUE=DURATION:PT1H
X-Robots-Tag:noindex
X-PUBLISHED-TTL:PT1H
BEGIN:VTIMEZONE
TZID:Europe/Paris
BEGIN:DAYLIGHT
TZOFFSETFROM:+0100
TZOFFSETTO:+0200
TZNAME:CEST
DTSTART:20240331T010000
END:DAYLIGHT
BEGIN:STANDARD
TZOFFSETFROM:+0200
TZOFFSETTO:+0100
TZNAME:CET
DTSTART:20241027T010000
END:STANDARD
BEGIN:DAYLIGHT
TZOFFSETFROM:+0100
TZOFFSETTO:+0200
TZNAME:CEST
DTSTART:20250330T010000
END:DAYLIGHT
BEGIN:STANDARD
TZOFFSETFROM:+0200
TZOFFSETTO:+0100
TZNAME:CET
DTSTART:20251026T010000
END:STANDARD
BEGIN:DAYLIGHT
TZOFFSETFROM:+0100
TZOFFSETTO:+0200
TZNAME:CEST
DTSTART:20260329T010000
END:DAYLIGHT
BEGIN:STANDARD
TZOFFSETFROM:+0200
TZOFFSETTO:+0100
TZNAME:CET
DTSTART:20261025T010000
END:STANDARD
END:VTIMEZONE
BEGIN:VEVENT
DTSTART;TZID=Europe/Paris:20250509T200000
DTEND;TZID=Europe/Paris:20250510T233000
DTSTAMP:20260421T055214
CREATED:20250218T094406Z
LAST-MODIFIED:20250218T094408Z
UID:22376-1746820800-1746919800@bc.sylvainfoucaud.fr
SUMMARY:Content Content Festival 2025
DESCRIPTION:Le Content Content Festival est un événement de l’association Tout Doux autour de la santé mentale. \n\n\n\nPour plus de renseignements\, c’est par ici : Content Content Festival 2025 : la programmation
URL:https://bc.sylvainfoucaud.fr/evenement/content-content-festival-2025
LOCATION:Espace Liberté\, 18 rue de la Liberté\, SAint-Marcel-lès-Valence\, 26320\, France
CATEGORIES:Festival
ATTACH;FMTTYPE=image/jpeg:https://bc.sylvainfoucaud.fr/wp-content/uploads/2025/02/Content-Content-Festival-2025.jpg
END:VEVENT
BEGIN:VEVENT
DTSTART;TZID=Europe/Paris:20250519T180000
DTEND;TZID=Europe/Paris:20250524T233000
DTSTAMP:20260421T055214
CREATED:20241125T125700Z
LAST-MODIFIED:20241201T132249Z
UID:20950-1747677600-1748129400@bc.sylvainfoucaud.fr
SUMMARY:Festival Paroles & Musiques 2025
DESCRIPTION:Les dates du Festival Paroles & Musiques 2025 sont connues. \n\n\n\nLes informations au fur et à mesure : Festival Paroles & Musiques 2025 : le point sur la programmation.
URL:https://bc.sylvainfoucaud.fr/evenement/festival-paroles-musiques-2025
LOCATION:Saint-Étienne\, Saint-Étienne\, 42000\, France
CATEGORIES:Festival
ATTACH;FMTTYPE=image/jpeg:https://bc.sylvainfoucaud.fr/wp-content/uploads/2024/11/Agenda-Festival-Paroles-et-Musiques-2025.jpg
END:VEVENT
END:VCALENDAR