BEGIN:VCALENDAR
VERSION:2.0
PRODID:-//Bastringue Corp - Actualités Musicales - ECPv6.15.20//NONSGML v1.0//EN
CALSCALE:GREGORIAN
METHOD:PUBLISH
X-WR-CALNAME:Bastringue Corp - Actualités Musicales
X-ORIGINAL-URL:https://bc.sylvainfoucaud.fr
X-WR-CALDESC:Évènements pour Bastringue Corp - Actualités Musicales
REFRESH-INTERVAL;VALUE=DURATION:PT1H
X-Robots-Tag:noindex
X-PUBLISHED-TTL:PT1H
BEGIN:VTIMEZONE
TZID:Europe/Paris
BEGIN:DAYLIGHT
TZOFFSETFROM:+0100
TZOFFSETTO:+0200
TZNAME:CEST
DTSTART:20230326T010000
END:DAYLIGHT
BEGIN:STANDARD
TZOFFSETFROM:+0200
TZOFFSETTO:+0100
TZNAME:CET
DTSTART:20231029T010000
END:STANDARD
BEGIN:DAYLIGHT
TZOFFSETFROM:+0100
TZOFFSETTO:+0200
TZNAME:CEST
DTSTART:20240331T010000
END:DAYLIGHT
BEGIN:STANDARD
TZOFFSETFROM:+0200
TZOFFSETTO:+0100
TZNAME:CET
DTSTART:20241027T010000
END:STANDARD
BEGIN:DAYLIGHT
TZOFFSETFROM:+0100
TZOFFSETTO:+0200
TZNAME:CEST
DTSTART:20250330T010000
END:DAYLIGHT
BEGIN:STANDARD
TZOFFSETFROM:+0200
TZOFFSETTO:+0100
TZNAME:CET
DTSTART:20251026T010000
END:STANDARD
END:VTIMEZONE
BEGIN:VEVENT
DTSTART;TZID=Europe/Paris:20240802T000000
DTEND;TZID=Europe/Paris:20240804T235959
DTSTAMP:20260424T192323
CREATED:20231223T161631Z
LAST-MODIFIED:20240323T234242Z
UID:14593-1722556800-1722815999@bc.sylvainfoucaud.fr
SUMMARY:SYLAK 2024
DESCRIPTION:Festival SYLAK Open Air 2024 : Toutes les informations !
URL:https://bc.sylvainfoucaud.fr/evenement/sylak-2024
LOCATION:Rhône
ATTACH;FMTTYPE=image/png:https://bc.sylvainfoucaud.fr/wp-content/uploads/2024/01/SYLAK2024-960.png
END:VEVENT
BEGIN:VEVENT
DTSTART;TZID=Europe/Paris:20240802T000000
DTEND;TZID=Europe/Paris:20240804T235959
DTSTAMP:20260424T192323
CREATED:20240323T233704Z
LAST-MODIFIED:20240323T233707Z
UID:16189-1722556800-1722815999@bc.sylvainfoucaud.fr
SUMMARY:Foreztival 2024
DESCRIPTION:Foreztival 2024 : la programmation
URL:https://bc.sylvainfoucaud.fr/evenement/foreztival-2024
LOCATION:Rhône
ATTACH;FMTTYPE=image/jpeg:https://bc.sylvainfoucaud.fr/wp-content/uploads/2024/03/Foreztival-artwork-Studio_Rafale-2024-960.jpg
END:VEVENT
BEGIN:VEVENT
DTSTART;TZID=Europe/Paris:20240802T190000
DTEND;TZID=Europe/Paris:20240803T233000
DTSTAMP:20260424T192323
CREATED:20240728T195005Z
LAST-MODIFIED:20240801T151210Z
UID:18469-1722625200-1722727800@bc.sylvainfoucaud.fr
SUMMARY:Rock'Ssillon #8 (2024)
DESCRIPTION:Festival Rock’Ssillon #8 (2024)
URL:https://bc.sylvainfoucaud.fr/evenement/rockssillon-8-2024
LOCATION:Rhône
ATTACH;FMTTYPE=image/jpeg:https://bc.sylvainfoucaud.fr/wp-content/uploads/2024/07/Festival-Rockssillon-2024-960.jpg
END:VEVENT
BEGIN:VEVENT
DTSTART;TZID=Europe/Paris:20240803T150000
DTEND;TZID=Europe/Paris:20240804T023000
DTSTAMP:20260424T192323
CREATED:20240728T192728Z
LAST-MODIFIED:20240728T192731Z
UID:18462-1722697200-1722738600@bc.sylvainfoucaud.fr
SUMMARY:Festival La Bouillie à Sosso 2024
DESCRIPTION:Festival La Bouillie à Sosso 2024
URL:https://bc.sylvainfoucaud.fr/evenement/festival-la-bouillie-a-sosso-2024
LOCATION:Rhône
ATTACH;FMTTYPE=image/jpeg:https://bc.sylvainfoucaud.fr/wp-content/uploads/2024/06/La_Bouillie_a_Sosso_2024-960.jpg
END:VEVENT
BEGIN:VEVENT
DTSTART;TZID=Europe/Paris:20240815T000000
DTEND;TZID=Europe/Paris:20240817T235959
DTSTAMP:20260424T192323
CREATED:20240610T205057Z
LAST-MODIFIED:20240610T210716Z
UID:17615-1723680000-1723939199@bc.sylvainfoucaud.fr
SUMMARY:La Nuit Des Etoiles #6
DESCRIPTION:Festival La Nuit Des Étoiles 2024 : Informations et programmation
URL:https://bc.sylvainfoucaud.fr/evenement/la-nuit-des-etoiles-6
LOCATION:Rhône
ATTACH;FMTTYPE=image/jpeg:https://bc.sylvainfoucaud.fr/wp-content/uploads/2024/06/LNDE6-960.jpg
END:VEVENT
BEGIN:VEVENT
DTSTART;TZID=Europe/Paris:20240823T000000
DTEND;TZID=Europe/Paris:20240824T235959
DTSTAMP:20260424T192323
CREATED:20240108T211415Z
LAST-MODIFIED:20240108T211418Z
UID:14881-1724371200-1724543999@bc.sylvainfoucaud.fr
SUMMARY:Lezart Festival 2024
DESCRIPTION:Lezart Festival 2024 : infos et programmation
URL:https://bc.sylvainfoucaud.fr/evenement/lezart-festival-2024
LOCATION:Rhône
ATTACH;FMTTYPE=image/jpeg:https://bc.sylvainfoucaud.fr/wp-content/uploads/2024/01/LEZART-FESTIVAL-2024-960.jpg
END:VEVENT
BEGIN:VEVENT
DTSTART;TZID=Europe/Paris:20240823T000000
DTEND;TZID=Europe/Paris:20240824T235959
DTSTAMP:20260424T192323
CREATED:20240822T195225Z
LAST-MODIFIED:20240822T195315Z
UID:18952-1724371200-1724543999@bc.sylvainfoucaud.fr
SUMMARY:Festival Les Gueules De Bois 2024
DESCRIPTION:Festival Les Gueules De Bois 2024
URL:https://bc.sylvainfoucaud.fr/evenement/festival-les-gueules-de-bois-2024
LOCATION:Rhône
ATTACH;FMTTYPE=image/png:https://bc.sylvainfoucaud.fr/wp-content/uploads/2024/01/Les_Gueules_De_Bois_2024-960.png
END:VEVENT
BEGIN:VEVENT
DTSTART;TZID=Europe/Paris:20240824T000000
DTEND;TZID=Europe/Paris:20240825T235959
DTSTAMP:20260424T192323
CREATED:20240822T195350Z
LAST-MODIFIED:20240822T195352Z
UID:18954-1724457600-1724630399@bc.sylvainfoucaud.fr
SUMMARY:Furios Fest 2024
DESCRIPTION:Furios Fest 2024 : toutes les informations !
URL:https://bc.sylvainfoucaud.fr/evenement/furios-fest-2024
LOCATION:Rhône
ATTACH;FMTTYPE=image/jpeg:https://bc.sylvainfoucaud.fr/wp-content/uploads/2024/04/Furios_Fest_2024-960.jpg
END:VEVENT
END:VCALENDAR