BEGIN:VCALENDAR
VERSION:2.0
PRODID:-//Bastringue Corp - Actualités Musicales - ECPv6.15.20//NONSGML v1.0//EN
CALSCALE:GREGORIAN
METHOD:PUBLISH
X-ORIGINAL-URL:https://bc.sylvainfoucaud.fr
X-WR-CALDESC:Évènements pour Bastringue Corp - Actualités Musicales
REFRESH-INTERVAL;VALUE=DURATION:PT1H
X-Robots-Tag:noindex
X-PUBLISHED-TTL:PT1H
BEGIN:VTIMEZONE
TZID:Europe/Paris
BEGIN:DAYLIGHT
TZOFFSETFROM:+0100
TZOFFSETTO:+0200
TZNAME:CEST
DTSTART:20250330T010000
END:DAYLIGHT
BEGIN:STANDARD
TZOFFSETFROM:+0200
TZOFFSETTO:+0100
TZNAME:CET
DTSTART:20251026T010000
END:STANDARD
BEGIN:DAYLIGHT
TZOFFSETFROM:+0100
TZOFFSETTO:+0200
TZNAME:CEST
DTSTART:20260329T010000
END:DAYLIGHT
BEGIN:STANDARD
TZOFFSETFROM:+0200
TZOFFSETTO:+0100
TZNAME:CET
DTSTART:20261025T010000
END:STANDARD
BEGIN:DAYLIGHT
TZOFFSETFROM:+0100
TZOFFSETTO:+0200
TZNAME:CEST
DTSTART:20270328T010000
END:DAYLIGHT
BEGIN:STANDARD
TZOFFSETFROM:+0200
TZOFFSETTO:+0100
TZNAME:CET
DTSTART:20271031T010000
END:STANDARD
END:VTIMEZONE
BEGIN:VEVENT
DTSTART;TZID=Europe/Paris:20260731T000000
DTEND;TZID=Europe/Paris:20260802T235959
DTSTAMP:20260421T063639
CREATED:20250916T200729Z
LAST-MODIFIED:20260105T192739Z
UID:25655-1785456000-1785715199@bc.sylvainfoucaud.fr
SUMMARY:SYLAK Open Air 2026
DESCRIPTION:La date a été annoncée le 16 septembre 2025.  \n\n\n\nPour toutes les informations détaillées\, un article a été dédié à ce beau festival : \n\n\n\n\nFestival SYLAK 2026 : toutes les informations !
URL:https://bc.sylvainfoucaud.fr/evenement/sylak-open-air-2026
LOCATION:Rhône
ATTACH;FMTTYPE=image/webp:https://bc.sylvainfoucaud.fr/wp-content/uploads/2025/09/SYLAK_2026_dates.webp
END:VEVENT
END:VCALENDAR