BEGIN:VCALENDAR
VERSION:2.0
PRODID:-//Bastringue Corp - Actualités Musicales - ECPv6.15.20//NONSGML v1.0//EN
CALSCALE:GREGORIAN
METHOD:PUBLISH
X-WR-CALNAME:Bastringue Corp - Actualités Musicales
X-ORIGINAL-URL:https://bc.sylvainfoucaud.fr
X-WR-CALDESC:Évènements pour Bastringue Corp - Actualités Musicales
REFRESH-INTERVAL;VALUE=DURATION:PT1H
X-Robots-Tag:noindex
X-PUBLISHED-TTL:PT1H
BEGIN:VTIMEZONE
TZID:Europe/Paris
BEGIN:DAYLIGHT
TZOFFSETFROM:+0100
TZOFFSETTO:+0200
TZNAME:CEST
DTSTART:20250330T010000
END:DAYLIGHT
BEGIN:STANDARD
TZOFFSETFROM:+0200
TZOFFSETTO:+0100
TZNAME:CET
DTSTART:20251026T010000
END:STANDARD
BEGIN:DAYLIGHT
TZOFFSETFROM:+0100
TZOFFSETTO:+0200
TZNAME:CEST
DTSTART:20260329T010000
END:DAYLIGHT
BEGIN:STANDARD
TZOFFSETFROM:+0200
TZOFFSETTO:+0100
TZNAME:CET
DTSTART:20261025T010000
END:STANDARD
BEGIN:DAYLIGHT
TZOFFSETFROM:+0100
TZOFFSETTO:+0200
TZNAME:CEST
DTSTART:20270328T010000
END:DAYLIGHT
BEGIN:STANDARD
TZOFFSETFROM:+0200
TZOFFSETTO:+0100
TZNAME:CET
DTSTART:20271031T010000
END:STANDARD
END:VTIMEZONE
BEGIN:VEVENT
DTSTART;TZID=Europe/Paris:20260709T160000
DTEND;TZID=Europe/Paris:20260712T233000
DTSTAMP:20260423T105404
CREATED:20251014T163206Z
LAST-MODIFIED:20260107T160252Z
UID:26069-1783612800-1783899000@bc.sylvainfoucaud.fr
SUMMARY:Musilac 2026
DESCRIPTION:L’édition 2026 du Festival Musilac aura lieu du jeudi 9 au dimanche 12 juillet ! \n\n\n\nPoint complet : \n\n\n\n\nFestival Musilac 2026 : Le Point sur la programmation
URL:https://bc.sylvainfoucaud.fr/evenement/musilac-2026
LOCATION:73100 Aix-les-Bains\, Aix-les-Bains\, Savoie\, 73100\, France
CATEGORIES:Festival
ATTACH;FMTTYPE=image/png:https://bc.sylvainfoucaud.fr/wp-content/uploads/2025/10/MUSILAC2026_LOGO-1200x630-1.png
END:VEVENT
BEGIN:VEVENT
DTSTART;TZID=Europe/Paris:20260710T150000
DTEND;TZID=Europe/Paris:20260714T233000
DTSTAMP:20260423T105404
CREATED:20251014T090410Z
LAST-MODIFIED:20251014T090413Z
UID:26064-1783695600-1784071800@bc.sylvainfoucaud.fr
SUMMARY:Francofolies de La Rochelle 2026
DESCRIPTION:Les Francofolies de La Rochelle se dérouleront en 2026 du 10 au 14 juillet ! \n\n\n\nPremiers noms : Gims (le 10) et Orelsan (le 14) \n\n\n\nPlus d’informations prochainement.
URL:https://bc.sylvainfoucaud.fr/evenement/francofolies-de-la-rochelle-2026
LOCATION:Rhône
ATTACH;FMTTYPE=image/jpeg:https://bc.sylvainfoucaud.fr/wp-content/uploads/2025/10/Francofolies-de-La-Rochelle-2026.jpg
END:VEVENT
END:VCALENDAR