BEGIN:VCALENDAR
VERSION:2.0
PRODID:-//Bastringue Corp - Actualités Musicales - ECPv6.15.20//NONSGML v1.0//EN
CALSCALE:GREGORIAN
METHOD:PUBLISH
X-ORIGINAL-URL:https://bc.sylvainfoucaud.fr
X-WR-CALDESC:Évènements pour Bastringue Corp - Actualités Musicales
REFRESH-INTERVAL;VALUE=DURATION:PT1H
X-Robots-Tag:noindex
X-PUBLISHED-TTL:PT1H
BEGIN:VTIMEZONE
TZID:Europe/Paris
BEGIN:DAYLIGHT
TZOFFSETFROM:+0100
TZOFFSETTO:+0200
TZNAME:CEST
DTSTART:20250330T010000
END:DAYLIGHT
BEGIN:STANDARD
TZOFFSETFROM:+0200
TZOFFSETTO:+0100
TZNAME:CET
DTSTART:20251026T010000
END:STANDARD
BEGIN:DAYLIGHT
TZOFFSETFROM:+0100
TZOFFSETTO:+0200
TZNAME:CEST
DTSTART:20260329T010000
END:DAYLIGHT
BEGIN:STANDARD
TZOFFSETFROM:+0200
TZOFFSETTO:+0100
TZNAME:CET
DTSTART:20261025T010000
END:STANDARD
BEGIN:DAYLIGHT
TZOFFSETFROM:+0100
TZOFFSETTO:+0200
TZNAME:CEST
DTSTART:20270328T010000
END:DAYLIGHT
BEGIN:STANDARD
TZOFFSETFROM:+0200
TZOFFSETTO:+0100
TZNAME:CET
DTSTART:20271031T010000
END:STANDARD
END:VTIMEZONE
BEGIN:VEVENT
DTSTART;TZID=Europe/Paris:20260702T150000
DTEND;TZID=Europe/Paris:20260704T233000
DTSTAMP:20260421T032244
CREATED:20251204T151405Z
LAST-MODIFIED:20260206T141109Z
UID:26571-1783004400-1783207800@bc.sylvainfoucaud.fr
SUMMARY:ERVA Festival #10 (2026)
DESCRIPTION:En attendant la programmation complète de l’ERVA Festival\, voici toujours les dates. \n\n\n\n\n\n(les passes 3 jours à 79€ sont épuisés)
URL:https://bc.sylvainfoucaud.fr/evenement/erva-festival-10-2026
LOCATION:ERVA\, 15 Rue de l'Argentelle\, Anneyron\, 26140\, France
CATEGORIES:Festival
ATTACH;FMTTYPE=image/jpeg:https://bc.sylvainfoucaud.fr/wp-content/uploads/2025/12/ERVA-2026-1.jpg
END:VEVENT
BEGIN:VEVENT
DTSTART;TZID=Europe/Paris:20260703T000000
DTEND;TZID=Europe/Paris:20260704T235959
DTSTAMP:20260421T032244
CREATED:20251118T220550Z
LAST-MODIFIED:20251211T180251Z
UID:26377-1783036800-1783209599@bc.sylvainfoucaud.fr
SUMMARY:Plane'R Fest 2026
DESCRIPTION:Montcul ne vous laisse pas le Choix dans la Date 🤘 \n\n\n\nLes informations détaillées: \n\n\n\n\nPlane’R Fest 2026 : toutes les informations\n\n\n\n\nLe 4 décembre\, les  le Blind Pass à 66.6 € sont en vente sur : https://billetterie.seetickets.fr/plane-r-fest-2026-pass-2-jours-festival-champ-de-foire-colombier-saugnieu-du-03-au-04-juillet-2026-css5-planerfest-pg101-ri11454015.html
URL:https://bc.sylvainfoucaud.fr/evenement/planer-fest-2026
LOCATION:Rhône
ATTACH;FMTTYPE=image/webp:https://bc.sylvainfoucaud.fr/wp-content/uploads/2025/11/prf2026.webp
END:VEVENT
BEGIN:VEVENT
DTSTART;TZID=Europe/Paris:20260703T170000
DTEND;TZID=Europe/Paris:20260705T233000
DTSTAMP:20260421T032244
CREATED:20251201T113424Z
LAST-MODIFIED:20251201T113429Z
UID:26510-1783098000-1783294200@bc.sylvainfoucaud.fr
SUMMARY:Festival Bien l'Bourgeon 2026
DESCRIPTION:Après une édition 2025 exceptionnelle\, l’asso Mix’Arts promet une édition 2026 du même acabit !
URL:https://bc.sylvainfoucaud.fr/evenement/festival-bien-lbourgeon-2026
LOCATION:Rhône
CATEGORIES:Festival
ATTACH;FMTTYPE=image/jpeg:https://bc.sylvainfoucaud.fr/wp-content/uploads/2025/12/Festival-Bien-lBourgeon-2026.jpg
END:VEVENT
END:VCALENDAR