BEGIN:VCALENDAR
VERSION:2.0
PRODID:-//Bastringue Corp - Actualités Musicales - ECPv6.15.20//NONSGML v1.0//EN
CALSCALE:GREGORIAN
METHOD:PUBLISH
X-WR-CALNAME:Bastringue Corp - Actualités Musicales
X-ORIGINAL-URL:https://bc.sylvainfoucaud.fr
X-WR-CALDESC:Évènements pour Bastringue Corp - Actualités Musicales
REFRESH-INTERVAL;VALUE=DURATION:PT1H
X-Robots-Tag:noindex
X-PUBLISHED-TTL:PT1H
BEGIN:VTIMEZONE
TZID:Europe/Paris
BEGIN:DAYLIGHT
TZOFFSETFROM:+0100
TZOFFSETTO:+0200
TZNAME:CEST
DTSTART:20240331T010000
END:DAYLIGHT
BEGIN:STANDARD
TZOFFSETFROM:+0200
TZOFFSETTO:+0100
TZNAME:CET
DTSTART:20241027T010000
END:STANDARD
BEGIN:DAYLIGHT
TZOFFSETFROM:+0100
TZOFFSETTO:+0200
TZNAME:CEST
DTSTART:20250330T010000
END:DAYLIGHT
BEGIN:STANDARD
TZOFFSETFROM:+0200
TZOFFSETTO:+0100
TZNAME:CET
DTSTART:20251026T010000
END:STANDARD
BEGIN:DAYLIGHT
TZOFFSETFROM:+0100
TZOFFSETTO:+0200
TZNAME:CEST
DTSTART:20260329T010000
END:DAYLIGHT
BEGIN:STANDARD
TZOFFSETFROM:+0200
TZOFFSETTO:+0100
TZNAME:CET
DTSTART:20261025T010000
END:STANDARD
END:VTIMEZONE
BEGIN:VEVENT
DTSTART;TZID=Europe/Paris:20250801T000000
DTEND;TZID=Europe/Paris:20250803T235959
DTSTAMP:20260421T054909
CREATED:20241202T202849Z
LAST-MODIFIED:20250112T204436Z
UID:21110-1754006400-1754265599@bc.sylvainfoucaud.fr
SUMMARY:SYLAK Open Air 2025
DESCRIPTION:Festival SYLAK Open Air 2025 : Toutes les informations
URL:https://bc.sylvainfoucaud.fr/evenement/sylak-open-air-2025
LOCATION:Rhône
ATTACH;FMTTYPE=image/webp:https://bc.sylvainfoucaud.fr/wp-content/uploads/2025/01/SYLAK-2025-1200x630-1.webp
END:VEVENT
BEGIN:VEVENT
DTSTART;TZID=Europe/Paris:20250802T000000
DTEND;TZID=Europe/Paris:20250803T235959
DTSTAMP:20260421T054909
CREATED:20250615T214711Z
LAST-MODIFIED:20250615T214713Z
UID:23996-1754092800-1754265599@bc.sylvainfoucaud.fr
SUMMARY:Rock Moto Girls 2025
DESCRIPTION:Rock Moto Girls 2025 : 1er festival rock féminin
URL:https://bc.sylvainfoucaud.fr/evenement/rock-moto-girls-2025
LOCATION:Rhône
ATTACH;FMTTYPE=image/jpeg:https://bc.sylvainfoucaud.fr/wp-content/uploads/2025/02/20250222-Rock-Moto-Girls-2025-by-Zic-Rock-Ardeche.jpg
END:VEVENT
END:VCALENDAR