BEGIN:VCALENDAR
VERSION:2.0
PRODID:-//Bastringue Corp - Actualités Musicales - ECPv6.15.20//NONSGML v1.0//EN
CALSCALE:GREGORIAN
METHOD:PUBLISH
X-ORIGINAL-URL:https://bc.sylvainfoucaud.fr
X-WR-CALDESC:Évènements pour Bastringue Corp - Actualités Musicales
REFRESH-INTERVAL;VALUE=DURATION:PT1H
X-Robots-Tag:noindex
X-PUBLISHED-TTL:PT1H
BEGIN:VTIMEZONE
TZID:Europe/Paris
BEGIN:DAYLIGHT
TZOFFSETFROM:+0100
TZOFFSETTO:+0200
TZNAME:CEST
DTSTART:20240331T010000
END:DAYLIGHT
BEGIN:STANDARD
TZOFFSETFROM:+0200
TZOFFSETTO:+0100
TZNAME:CET
DTSTART:20241027T010000
END:STANDARD
BEGIN:DAYLIGHT
TZOFFSETFROM:+0100
TZOFFSETTO:+0200
TZNAME:CEST
DTSTART:20250330T010000
END:DAYLIGHT
BEGIN:STANDARD
TZOFFSETFROM:+0200
TZOFFSETTO:+0100
TZNAME:CET
DTSTART:20251026T010000
END:STANDARD
BEGIN:DAYLIGHT
TZOFFSETFROM:+0100
TZOFFSETTO:+0200
TZNAME:CEST
DTSTART:20260329T010000
END:DAYLIGHT
BEGIN:STANDARD
TZOFFSETFROM:+0200
TZOFFSETTO:+0100
TZNAME:CET
DTSTART:20261025T010000
END:STANDARD
END:VTIMEZONE
BEGIN:VEVENT
DTSTART;TZID=Europe/Paris:20250613T000000
DTEND;TZID=Europe/Paris:20250614T235959
DTSTAMP:20260421T131839
CREATED:20250320T221141Z
LAST-MODIFIED:20250320T221144Z
UID:22893-1749772800-1749945599@bc.sylvainfoucaud.fr
SUMMARY:Festival Les Feux De L'été 2025
DESCRIPTION:Festival Les Feux De L’été 2025 : toutes les informations
URL:https://bc.sylvainfoucaud.fr/evenement/festival-les-feux-de-lete-2025
LOCATION:Rhône
ATTACH;FMTTYPE=image/webp:https://bc.sylvainfoucaud.fr/wp-content/uploads/2025/03/Festival_Les_Feux_De_L_Ete-2025-1200x630-1.webp
END:VEVENT
BEGIN:VEVENT
DTSTART;TZID=Europe/Paris:20250613T180000
DTEND;TZID=Europe/Paris:20250614T233000
DTSTAMP:20260421T131839
CREATED:20241009T133941Z
LAST-MODIFIED:20250331T131125Z
UID:20028-1749837600-1749943800@bc.sylvainfoucaud.fr
SUMMARY:Aoustock Festival 2025
DESCRIPTION:Aoustock Festival est de retour en 2025 pour le meilleur et seulement lui ! \n\n\n\nPlus d’informations et la programmation ici : Aoustock Festival 2025 : on sait tout !
URL:https://bc.sylvainfoucaud.fr/evenement/aoustock-festival-2025
LOCATION:Rhône
CATEGORIES:Festival
ATTACH;FMTTYPE=image/jpeg:https://bc.sylvainfoucaud.fr/wp-content/uploads/2025/02/20250226-Aoustock-Festival-2025.jpg
END:VEVENT
END:VCALENDAR