BEGIN:VCALENDAR
VERSION:2.0
PRODID:-//Bastringue Corp - Actualités Musicales - ECPv6.15.20//NONSGML v1.0//EN
CALSCALE:GREGORIAN
METHOD:PUBLISH
X-ORIGINAL-URL:https://bc.sylvainfoucaud.fr
X-WR-CALDESC:Évènements pour Bastringue Corp - Actualités Musicales
REFRESH-INTERVAL;VALUE=DURATION:PT1H
X-Robots-Tag:noindex
X-PUBLISHED-TTL:PT1H
BEGIN:VTIMEZONE
TZID:Europe/Paris
BEGIN:DAYLIGHT
TZOFFSETFROM:+0100
TZOFFSETTO:+0200
TZNAME:CEST
DTSTART:20240331T010000
END:DAYLIGHT
BEGIN:STANDARD
TZOFFSETFROM:+0200
TZOFFSETTO:+0100
TZNAME:CET
DTSTART:20241027T010000
END:STANDARD
BEGIN:DAYLIGHT
TZOFFSETFROM:+0100
TZOFFSETTO:+0200
TZNAME:CEST
DTSTART:20250330T010000
END:DAYLIGHT
BEGIN:STANDARD
TZOFFSETFROM:+0200
TZOFFSETTO:+0100
TZNAME:CET
DTSTART:20251026T010000
END:STANDARD
BEGIN:DAYLIGHT
TZOFFSETFROM:+0100
TZOFFSETTO:+0200
TZNAME:CEST
DTSTART:20260329T010000
END:DAYLIGHT
BEGIN:STANDARD
TZOFFSETFROM:+0200
TZOFFSETTO:+0100
TZNAME:CET
DTSTART:20261025T010000
END:STANDARD
END:VTIMEZONE
BEGIN:VEVENT
DTSTART;TZID=Europe/Paris:20250606T180000
DTEND;TZID=Europe/Paris:20250607T233000
DTSTAMP:20260421T072054
CREATED:20241217T200901Z
LAST-MODIFIED:20241217T201451Z
UID:21484-1749232800-1749339000@bc.sylvainfoucaud.fr
SUMMARY:Festival du Tonton 2025
DESCRIPTION:En attendant la programmation\, voici les dates du Festival du Tonton !
URL:https://bc.sylvainfoucaud.fr/evenement/festival-du-tonton-2025
LOCATION:Oytier Saint Oblas\, Oytier Saint Oblas\, 38780\, France
CATEGORIES:Festival
ATTACH;FMTTYPE=image/jpeg:https://bc.sylvainfoucaud.fr/wp-content/uploads/2024/12/Festival-du-Tonton-2025.jpg
END:VEVENT
BEGIN:VEVENT
DTSTART;TZID=Europe/Paris:20250606T180000
DTEND;TZID=Europe/Paris:20250608T233000
DTSTAMP:20260421T072054
CREATED:20241030T074347Z
LAST-MODIFIED:20241030T092113Z
UID:20432-1749232800-1749425400@bc.sylvainfoucaud.fr
SUMMARY:Nantua Fest 2025
DESCRIPTION:L’édition 2025 du Nantua Fest promet d’être grandiose ! \n\n\n\nNous vous en dirons plus prochainement. \n\n\n\nEn attendant\, souvenez-vous de la programmation 2024 : Nantua Fest 2024 : un point sur la programmation
URL:https://bc.sylvainfoucaud.fr/evenement/nantua-fest-2025
LOCATION:Nantua\, Nantua\, 01130\, France
CATEGORIES:Festival
ATTACH;FMTTYPE=image/png:https://bc.sylvainfoucaud.fr/wp-content/uploads/2024/10/Nantua-Fest-2025-Logo.png
END:VEVENT
BEGIN:VEVENT
DTSTART;TZID=Europe/Paris:20250607T000000
DTEND;TZID=Europe/Paris:20250608T235959
DTSTAMP:20260421T072054
CREATED:20241102T130052Z
LAST-MODIFIED:20241102T130054Z
UID:20466-1749254400-1749427199@bc.sylvainfoucaud.fr
SUMMARY:Lions Metal Festival 2025
DESCRIPTION:Lions Metal Festival 2025 : toutes les informations
URL:https://bc.sylvainfoucaud.fr/evenement/lions-metal-festival-2025
LOCATION:Rhône
ATTACH;FMTTYPE=image/webp:https://bc.sylvainfoucaud.fr/wp-content/uploads/2024/11/LMF-v0-960.webp
END:VEVENT
BEGIN:VEVENT
DTSTART;TZID=Europe/Paris:20250607T190000
DTEND;TZID=Europe/Paris:20250607T233000
DTSTAMP:20260421T072054
CREATED:20241016T112057Z
LAST-MODIFIED:20250329T201424Z
UID:20151-1749322800-1749339000@bc.sylvainfoucaud.fr
SUMMARY:Festival Rock'Ambulesque 3
DESCRIPTION:Le Festival Rock’Ambulesque vivra avec vous sa troisième édition le 7 juin 2025 ! \n\n\n\nPlus d’informations ici : Festival Rock’Ambulesque #3 : du nouveau pour l’édition 2025
URL:https://bc.sylvainfoucaud.fr/evenement/festival-rockambulesque-3
LOCATION:Rhône
CATEGORIES:Festival
ATTACH;FMTTYPE=image/jpeg:https://bc.sylvainfoucaud.fr/wp-content/uploads/2024/10/Logo-RockAmbulesque.jpg
END:VEVENT
END:VCALENDAR