BEGIN:VCALENDAR
VERSION:2.0
PRODID:-//Bastringue Corp - Actualités Musicales - ECPv6.15.20//NONSGML v1.0//EN
CALSCALE:GREGORIAN
METHOD:PUBLISH
X-ORIGINAL-URL:https://bc.sylvainfoucaud.fr
X-WR-CALDESC:Évènements pour Bastringue Corp - Actualités Musicales
REFRESH-INTERVAL;VALUE=DURATION:PT1H
X-Robots-Tag:noindex
X-PUBLISHED-TTL:PT1H
BEGIN:VTIMEZONE
TZID:Europe/Paris
BEGIN:DAYLIGHT
TZOFFSETFROM:+0100
TZOFFSETTO:+0200
TZNAME:CEST
DTSTART:20240331T010000
END:DAYLIGHT
BEGIN:STANDARD
TZOFFSETFROM:+0200
TZOFFSETTO:+0100
TZNAME:CET
DTSTART:20241027T010000
END:STANDARD
BEGIN:DAYLIGHT
TZOFFSETFROM:+0100
TZOFFSETTO:+0200
TZNAME:CEST
DTSTART:20250330T010000
END:DAYLIGHT
BEGIN:STANDARD
TZOFFSETFROM:+0200
TZOFFSETTO:+0100
TZNAME:CET
DTSTART:20251026T010000
END:STANDARD
BEGIN:DAYLIGHT
TZOFFSETFROM:+0100
TZOFFSETTO:+0200
TZNAME:CEST
DTSTART:20260329T010000
END:DAYLIGHT
BEGIN:STANDARD
TZOFFSETFROM:+0200
TZOFFSETTO:+0100
TZNAME:CET
DTSTART:20261025T010000
END:STANDARD
END:VTIMEZONE
BEGIN:VEVENT
DTSTART;TZID=Europe/Paris:20250129T180000
DTEND;TZID=Europe/Paris:20250129T233000
DTSTAMP:20260424T041121
CREATED:20240906T210043Z
LAST-MODIFIED:20240906T210701Z
UID:19297-1738173600-1738193400@bc.sylvainfoucaud.fr
SUMMARY:Paganfest à Lyon
DESCRIPTION:Annonce : le Paganfest est de passage à Lyon début 2025
URL:https://bc.sylvainfoucaud.fr/evenement/paganfest-a-lyon
LOCATION:Rhône
ATTACH;FMTTYPE=image/jpeg:https://bc.sylvainfoucaud.fr/wp-content/uploads/2024/09/PaganFest-Lyon-2025-960.jpg
END:VEVENT
END:VCALENDAR