BEGIN:VCALENDAR
VERSION:2.0
PRODID:-//Bastringue Corp - Actualités Musicales - ECPv6.15.20//NONSGML v1.0//EN
CALSCALE:GREGORIAN
METHOD:PUBLISH
X-ORIGINAL-URL:https://bc.sylvainfoucaud.fr
X-WR-CALDESC:Évènements pour Bastringue Corp - Actualités Musicales
REFRESH-INTERVAL;VALUE=DURATION:PT1H
X-Robots-Tag:noindex
X-PUBLISHED-TTL:PT1H
BEGIN:VTIMEZONE
TZID:Europe/Paris
BEGIN:DAYLIGHT
TZOFFSETFROM:+0100
TZOFFSETTO:+0200
TZNAME:CEST
DTSTART:20230326T010000
END:DAYLIGHT
BEGIN:STANDARD
TZOFFSETFROM:+0200
TZOFFSETTO:+0100
TZNAME:CET
DTSTART:20231029T010000
END:STANDARD
BEGIN:DAYLIGHT
TZOFFSETFROM:+0100
TZOFFSETTO:+0200
TZNAME:CEST
DTSTART:20240331T010000
END:DAYLIGHT
BEGIN:STANDARD
TZOFFSETFROM:+0200
TZOFFSETTO:+0100
TZNAME:CET
DTSTART:20241027T010000
END:STANDARD
BEGIN:DAYLIGHT
TZOFFSETFROM:+0100
TZOFFSETTO:+0200
TZNAME:CEST
DTSTART:20250330T010000
END:DAYLIGHT
BEGIN:STANDARD
TZOFFSETFROM:+0200
TZOFFSETTO:+0100
TZNAME:CET
DTSTART:20251026T010000
END:STANDARD
END:VTIMEZONE
BEGIN:VEVENT
DTSTART;TZID=Europe/Paris:20241128T180000
DTEND;TZID=Europe/Paris:20241128T233000
DTSTAMP:20260424T095207
CREATED:20241125T194456Z
LAST-MODIFIED:20241125T194458Z
UID:20962-1732816800-1732836600@bc.sylvainfoucaud.fr
SUMMARY:Concert Mediatone : Cradle Of Filth + Butcher Babies + Mental Cruelty à La Rayonne
DESCRIPTION:Nos amis de Mediatone organisent une soirée très Metal le 28 novembre 2024 à la Rayonne ! \n\n\n\nProgrammation :\n\n\n\n\nMental Cruelty (USA – Metal)\n\n\n\nCradle Of Filth (UK – Black Metal)\n\n\n\nButcher Babies (USA – Groove Metal)\n\n\n\nBlack Satellite (DE – Deathcore Symphonique)\n\n\n\n\nBilleterie :\n\n\n\nVous pouvez acheter vos précieux sésames pour la soirée directement sur le site de Mediatone : https://mediatone.net/evenements/cradle-of-filth \n\n\n\n\nTarif réduit** : 27 €*\n\n\n\nTarif prévente : 30 €*\n\n\n\nTarif guichet : 33 €\n\n\n\n\n*+ frais de loc. \n\n\n\n** demandeurs d’emploi\, bénéficiaires du RSA\, – 18 ans sur présentation d’un justificatif\, Mojjo
URL:https://bc.sylvainfoucaud.fr/evenement/concert-mediatone-cradle-of-filth-butcher-babies-mental-cruelty-a-la-rayonne
LOCATION:La Rayonne\, 7 Rue Henri Legay\, VILLEURBANNE\, 69100\, France
ATTACH;FMTTYPE=image/webp:https://bc.sylvainfoucaud.fr/wp-content/uploads/2024/11/concert-mediatone-28-novembre-2024-1280-720.webp
END:VEVENT
END:VCALENDAR