BEGIN:VCALENDAR
VERSION:2.0
PRODID:-//Bastringue Corp - Actualités Musicales - ECPv6.15.20//NONSGML v1.0//EN
CALSCALE:GREGORIAN
METHOD:PUBLISH
X-WR-CALNAME:Bastringue Corp - Actualités Musicales
X-ORIGINAL-URL:https://bc.sylvainfoucaud.fr
X-WR-CALDESC:Évènements pour Bastringue Corp - Actualités Musicales
REFRESH-INTERVAL;VALUE=DURATION:PT1H
X-Robots-Tag:noindex
X-PUBLISHED-TTL:PT1H
BEGIN:VTIMEZONE
TZID:Europe/Paris
BEGIN:DAYLIGHT
TZOFFSETFROM:+0100
TZOFFSETTO:+0200
TZNAME:CEST
DTSTART:20230326T010000
END:DAYLIGHT
BEGIN:STANDARD
TZOFFSETFROM:+0200
TZOFFSETTO:+0100
TZNAME:CET
DTSTART:20231029T010000
END:STANDARD
BEGIN:DAYLIGHT
TZOFFSETFROM:+0100
TZOFFSETTO:+0200
TZNAME:CEST
DTSTART:20240331T010000
END:DAYLIGHT
BEGIN:STANDARD
TZOFFSETFROM:+0200
TZOFFSETTO:+0100
TZNAME:CET
DTSTART:20241027T010000
END:STANDARD
BEGIN:DAYLIGHT
TZOFFSETFROM:+0100
TZOFFSETTO:+0200
TZNAME:CEST
DTSTART:20250330T010000
END:DAYLIGHT
BEGIN:STANDARD
TZOFFSETFROM:+0200
TZOFFSETTO:+0100
TZNAME:CET
DTSTART:20251026T010000
END:STANDARD
END:VTIMEZONE
BEGIN:VEVENT
DTSTART;TZID=Europe/Paris:20241011T000000
DTEND;TZID=Europe/Paris:20241012T235959
DTSTAMP:20260424T125921
CREATED:20231223T161518Z
LAST-MODIFIED:20231223T161521Z
UID:14590-1728604800-1728777599@bc.sylvainfoucaud.fr
SUMMARY:Omega Sound Fest 2024
DESCRIPTION:
URL:https://bc.sylvainfoucaud.fr/evenement/omega-sound-fest-2024
LOCATION:Rhône
END:VEVENT
BEGIN:VEVENT
DTSTART;TZID=Europe/Paris:20241012T170000
DTEND;TZID=Europe/Paris:20241012T233000
DTSTAMP:20260424T125921
CREATED:20240716T220943Z
LAST-MODIFIED:20240716T221001Z
UID:18234-1728752400-1728775800@bc.sylvainfoucaud.fr
SUMMARY:Festival Anjou Du Rock #2 (2024)
DESCRIPTION:Festival Anjou Du Rock #2 (2024)
URL:https://bc.sylvainfoucaud.fr/evenement/festival-anjou-du-rock-2-2024
LOCATION:Rhône
ATTACH;FMTTYPE=image/jpeg:https://bc.sylvainfoucaud.fr/wp-content/uploads/2024/07/Anjou_Du_Rock-2024-960.jpg
END:VEVENT
BEGIN:VEVENT
DTSTART;TZID=Europe/Paris:20241012T183000
DTEND;TZID=Europe/Paris:20241012T233000
DTSTAMP:20260424T125921
CREATED:20240729T192806Z
LAST-MODIFIED:20240730T203006Z
UID:18527-1728757800-1728775800@bc.sylvainfoucaud.fr
SUMMARY:Rock à Willy 2024
DESCRIPTION:Rock à Willy 2024 : informations et programmation
URL:https://bc.sylvainfoucaud.fr/evenement/rock-a-willy-2024
LOCATION:Rhône
ATTACH;FMTTYPE=image/jpeg:https://bc.sylvainfoucaud.fr/wp-content/uploads/2024/07/Rock_a_Willy-2024-960.jpg
END:VEVENT
END:VCALENDAR