BEGIN:VCALENDAR
VERSION:2.0
PRODID:-//Bastringue Corp - Actualités Musicales - ECPv6.15.20//NONSGML v1.0//EN
CALSCALE:GREGORIAN
METHOD:PUBLISH
X-WR-CALNAME:Bastringue Corp - Actualités Musicales
X-ORIGINAL-URL:https://bc.sylvainfoucaud.fr
X-WR-CALDESC:Évènements pour Bastringue Corp - Actualités Musicales
REFRESH-INTERVAL;VALUE=DURATION:PT1H
X-Robots-Tag:noindex
X-PUBLISHED-TTL:PT1H
BEGIN:VTIMEZONE
TZID:Europe/Paris
BEGIN:DAYLIGHT
TZOFFSETFROM:+0100
TZOFFSETTO:+0200
TZNAME:CEST
DTSTART:20230326T010000
END:DAYLIGHT
BEGIN:STANDARD
TZOFFSETFROM:+0200
TZOFFSETTO:+0100
TZNAME:CET
DTSTART:20231029T010000
END:STANDARD
BEGIN:DAYLIGHT
TZOFFSETFROM:+0100
TZOFFSETTO:+0200
TZNAME:CEST
DTSTART:20240331T010000
END:DAYLIGHT
BEGIN:STANDARD
TZOFFSETFROM:+0200
TZOFFSETTO:+0100
TZNAME:CET
DTSTART:20241027T010000
END:STANDARD
BEGIN:DAYLIGHT
TZOFFSETFROM:+0100
TZOFFSETTO:+0200
TZNAME:CEST
DTSTART:20250330T010000
END:DAYLIGHT
BEGIN:STANDARD
TZOFFSETFROM:+0200
TZOFFSETTO:+0100
TZNAME:CET
DTSTART:20251026T010000
END:STANDARD
END:VTIMEZONE
BEGIN:VEVENT
DTSTART;TZID=Europe/Paris:20241004T190000
DTEND;TZID=Europe/Paris:20241006T180000
DTSTAMP:20260424T175912
CREATED:20240911T141406Z
LAST-MODIFIED:20240911T142422Z
UID:19429-1728068400-1728237600@bc.sylvainfoucaud.fr
SUMMARY:Alive Dub Festival 2024
DESCRIPTION:L’Impasse du Bout du Monde accueillera Bass Cookers et Dub Style Alive qui organiseront Alive Dub Festival le premier week-end d’octobre ! \n\n\n\nPlus d’informations ici : Festival Alive Dub 2024 : la programmation.
URL:https://bc.sylvainfoucaud.fr/evenement/alive-dub-festival-2024
LOCATION:L’Impasse du Bout du Monde\, 121 Chemin de la Gay\, Saint-Jean-Saint-Maurice-sur-Loire\, 42155\, France
CATEGORIES:Festival
ATTACH;FMTTYPE=image/jpeg:https://bc.sylvainfoucaud.fr/wp-content/uploads/2024/09/20240911-Alive-Dub-Festival-2024.jpg
END:VEVENT
BEGIN:VEVENT
DTSTART;TZID=Europe/Paris:20241005T000000
DTEND;TZID=Europe/Paris:20241006T235959
DTSTAMP:20260424T175912
CREATED:20240929T074308Z
LAST-MODIFIED:20240929T074310Z
UID:19818-1728086400-1728259199@bc.sylvainfoucaud.fr
SUMMARY:Just'N'Fest 2024
DESCRIPTION:Le festival Metal fête ses 5 ans ! \n\n\n\n\nCinquième anniversaire du Festival Just’N’Fest en 2024 : toutes les informations !
URL:https://bc.sylvainfoucaud.fr/evenement/justnfest-2024
LOCATION:Rhône
ATTACH;FMTTYPE=image/jpeg:https://bc.sylvainfoucaud.fr/wp-content/uploads/2024/09/Just-n-fest-2024-960.jpg
END:VEVENT
END:VCALENDAR