BEGIN:VCALENDAR
VERSION:2.0
PRODID:-//Bastringue Corp - Actualités Musicales - ECPv6.15.20//NONSGML v1.0//EN
CALSCALE:GREGORIAN
METHOD:PUBLISH
X-WR-CALNAME:Bastringue Corp - Actualités Musicales
X-ORIGINAL-URL:https://bc.sylvainfoucaud.fr
X-WR-CALDESC:Évènements pour Bastringue Corp - Actualités Musicales
REFRESH-INTERVAL;VALUE=DURATION:PT1H
X-Robots-Tag:noindex
X-PUBLISHED-TTL:PT1H
BEGIN:VTIMEZONE
TZID:Europe/Paris
BEGIN:DAYLIGHT
TZOFFSETFROM:+0100
TZOFFSETTO:+0200
TZNAME:CEST
DTSTART:20230326T010000
END:DAYLIGHT
BEGIN:STANDARD
TZOFFSETFROM:+0200
TZOFFSETTO:+0100
TZNAME:CET
DTSTART:20231029T010000
END:STANDARD
BEGIN:DAYLIGHT
TZOFFSETFROM:+0100
TZOFFSETTO:+0200
TZNAME:CEST
DTSTART:20240331T010000
END:DAYLIGHT
BEGIN:STANDARD
TZOFFSETFROM:+0200
TZOFFSETTO:+0100
TZNAME:CET
DTSTART:20241027T010000
END:STANDARD
BEGIN:DAYLIGHT
TZOFFSETFROM:+0100
TZOFFSETTO:+0200
TZNAME:CEST
DTSTART:20250330T010000
END:DAYLIGHT
BEGIN:STANDARD
TZOFFSETFROM:+0200
TZOFFSETTO:+0100
TZNAME:CET
DTSTART:20251026T010000
END:STANDARD
END:VTIMEZONE
BEGIN:VEVENT
DTSTART;TZID=Europe/Paris:20240802T000000
DTEND;TZID=Europe/Paris:20240804T235959
DTSTAMP:20260424T204410
CREATED:20231223T161631Z
LAST-MODIFIED:20240323T234242Z
UID:14593-1722556800-1722815999@bc.sylvainfoucaud.fr
SUMMARY:SYLAK 2024
DESCRIPTION:Festival SYLAK Open Air 2024 : Toutes les informations !
URL:https://bc.sylvainfoucaud.fr/evenement/sylak-2024
LOCATION:Rhône
ATTACH;FMTTYPE=image/png:https://bc.sylvainfoucaud.fr/wp-content/uploads/2024/01/SYLAK2024-960.png
END:VEVENT
BEGIN:VEVENT
DTSTART;TZID=Europe/Paris:20240802T000000
DTEND;TZID=Europe/Paris:20240804T235959
DTSTAMP:20260424T204410
CREATED:20240323T233704Z
LAST-MODIFIED:20240323T233707Z
UID:16189-1722556800-1722815999@bc.sylvainfoucaud.fr
SUMMARY:Foreztival 2024
DESCRIPTION:Foreztival 2024 : la programmation
URL:https://bc.sylvainfoucaud.fr/evenement/foreztival-2024
LOCATION:Rhône
ATTACH;FMTTYPE=image/jpeg:https://bc.sylvainfoucaud.fr/wp-content/uploads/2024/03/Foreztival-artwork-Studio_Rafale-2024-960.jpg
END:VEVENT
BEGIN:VEVENT
DTSTART;TZID=Europe/Paris:20240802T190000
DTEND;TZID=Europe/Paris:20240803T233000
DTSTAMP:20260424T204410
CREATED:20240728T195005Z
LAST-MODIFIED:20240801T151210Z
UID:18469-1722625200-1722727800@bc.sylvainfoucaud.fr
SUMMARY:Rock'Ssillon #8 (2024)
DESCRIPTION:Festival Rock’Ssillon #8 (2024)
URL:https://bc.sylvainfoucaud.fr/evenement/rockssillon-8-2024
LOCATION:Rhône
ATTACH;FMTTYPE=image/jpeg:https://bc.sylvainfoucaud.fr/wp-content/uploads/2024/07/Festival-Rockssillon-2024-960.jpg
END:VEVENT
END:VCALENDAR